BEGIN:VCALENDAR
VERSION:2.0
PRODID:Imitheme.com 
BEGIN:VEVENT
UID:20260420T220246535757745
DTSTAMP;TZID=UTC:2026-04-20 22:02:46
DTSTART;TZID=America/Los_Angeles:20260510T000000
DTEND;TZID=America/Los_Angeles:20260510T000000
SUMMARY:Celebration contemporary worship
LOCATION:Contemporary Worship Hall
DESCRIPTION:Join us for our Sunday morning Celebration modern contemporary worship at 10:00am!
URL:https://emmanuels.org/eventer/celebration-contemporary-worship/
END:VEVENT
END:VCALENDAR
