BEGIN:VCALENDAR
VERSION:2.0
PRODID:Imitheme.com 
BEGIN:VEVENT
UID:20260420T2341191674041610
DTSTAMP;TZID=UTC:2026-04-20 23:41:19
DTSTART;TZID=America/Los_Angeles:20261213T000000
DTEND;TZID=America/Los_Angeles:20261213T000000
SUMMARY:Spirited traditional worship
LOCATION:Sanctuary
DESCRIPTION:Join us for our regular Sunday morning spirited traditional worship at 8:45am!
URL:https://emmanuels.org/eventer/spirited-traditional-worship/
END:VEVENT
END:VCALENDAR
